BEGIN:VCALENDAR
VERSION:2.0
PRODID:-//Department Of Education//0f9baf15-9bfd-43b3-a695-d57bcdee8874
BEGIN:VTIMEZONE
TZID:Australia/Sydney
TZURL:http://tzurl.org/zoneinfo-outlook/Australia/Sydney
X-LIC-LOCATION:Australia/Sydney
BEGIN:STANDARD
TZOFFSETFROM:+1100
TZOFFSETTO:+1000
TZNAME:AEST
DTSTART:19700405T030000
RRULE:FREQ=YEARLY;BYMONTH=4;BYDAY=1SU
END:STANDARD
BEGIN:DAYLIGHT
TZOFFSETFROM:+1000
TZOFFSETTO:+1100
TZNAME:AEDT
DTSTART:19701004T020000
RRULE:FREQ=YEARLY;BYMONTH=10;BYDAY=1SU
END:DAYLIGHT
END:VTIMEZONE
CALSCALE:GREGORIAN
X-WR-TIMEZONE:Australia/Sydney
BEGIN:VEVENT
DTSTART;TZID=Australia/Sydney:20200228T114517
DTEND;TZID=Australia/Sydney:20200228T121500
DTSTAMP:20200228T000000Z
UID:a0b90db4-a99b-412a-b1d5-1550d518a6d3
LOCATION:Front Playground assembly area
SUMMARY;LANGUAGE=en-us:K-6 Assembly
SEQUENCE:0
DESCRIPTION:Please join us for our K-6 Assembly.
END:VEVENT
TRANSP:TRANSPARENT
END:VCALENDAR
