BEGIN:VCALENDAR
VERSION:2.0
PRODID:-//Department Of Education//1c5eb654-6c88-4d7b-8571-53314efc1472
BEGIN:VTIMEZONE
TZID:Australia/Sydney
TZURL:http://tzurl.org/zoneinfo-outlook/Australia/Sydney
X-LIC-LOCATION:Australia/Sydney
BEGIN:STANDARD
TZOFFSETFROM:+1100
TZOFFSETTO:+1000
TZNAME:AEST
DTSTART:19700405T030000
RRULE:FREQ=YEARLY;BYMONTH=4;BYDAY=1SU
END:STANDARD
BEGIN:DAYLIGHT
TZOFFSETFROM:+1000
TZOFFSETTO:+1100
TZNAME:AEDT
DTSTART:19701004T020000
RRULE:FREQ=YEARLY;BYMONTH=10;BYDAY=1SU
END:DAYLIGHT
END:VTIMEZONE
CALSCALE:GREGORIAN
X-WR-TIMEZONE:Australia/Sydney
BEGIN:VEVENT
DTSTART;TZID=Australia/Sydney:20200313T114500
DTEND;TZID=Australia/Sydney:20200313T121500
DTSTAMP:20200313T000000Z
UID:996f4c61-3756-4a2e-b45c-92feb3eeafdb
LOCATION:School Hall
SUMMARY;LANGUAGE=en-us:3 - 6 Assembly
SEQUENCE:0
DESCRIPTION:Please join us for our 3 -6 Assmebly.
END:VEVENT
TRANSP:TRANSPARENT
END:VCALENDAR
