BEGIN:VCALENDAR
VERSION:2.0
PRODID:-//Department Of Education//16572b97-2d49-4dba-8f86-a8f68285c46d
BEGIN:VTIMEZONE
TZID:Australia/Sydney
TZURL:http://tzurl.org/zoneinfo-outlook/Australia/Sydney
X-LIC-LOCATION:Australia/Sydney
BEGIN:STANDARD
TZOFFSETFROM:+1100
TZOFFSETTO:+1000
TZNAME:AEST
DTSTART:19700405T030000
RRULE:FREQ=YEARLY;BYMONTH=4;BYDAY=1SU
END:STANDARD
BEGIN:DAYLIGHT
TZOFFSETFROM:+1000
TZOFFSETTO:+1100
TZNAME:AEDT
DTSTART:19701004T020000
RRULE:FREQ=YEARLY;BYMONTH=10;BYDAY=1SU
END:DAYLIGHT
END:VTIMEZONE
CALSCALE:GREGORIAN
X-WR-TIMEZONE:Australia/Sydney
BEGIN:VEVENT
DTSTART;VALUE=DATE:20200310
DTEND;VALUE=DATE:20200311
DTSTAMP:20200310T000000Z
UID:4d20bf7a-8654-4348-ad07-6d9c2db30d83
LOCATION:Sydney Olympic Swimming Centre
SUMMARY;LANGUAGE=en-us:Zone Swimming Carnival
SEQUENCE:0
DESCRIPTION:We wish our school representatives all the best at the Zone Swimming today.
END:VEVENT
TRANSP:TRANSPARENT
END:VCALENDAR
